BEGIN:VCALENDAR
VERSION:2.0
PRODID:-//Mill River Park Collaborative - ECPv6.15.12.2//NONSGML v1.0//EN
CALSCALE:GREGORIAN
METHOD:PUBLISH
X-WR-CALNAME:Mill River Park Collaborative
X-ORIGINAL-URL:https://millriverpark.org
X-WR-CALDESC:Events for Mill River Park Collaborative
REFRESH-INTERVAL;VALUE=DURATION:PT1H
X-Robots-Tag:noindex
X-PUBLISHED-TTL:PT1H
BEGIN:VTIMEZONE
TZID:America/New_York
BEGIN:DAYLIGHT
TZOFFSETFROM:-0500
TZOFFSETTO:-0400
TZNAME:EDT
DTSTART:20190310T070000
END:DAYLIGHT
BEGIN:STANDARD
TZOFFSETFROM:-0400
TZOFFSETTO:-0500
TZNAME:EST
DTSTART:20191103T060000
END:STANDARD
BEGIN:DAYLIGHT
TZOFFSETFROM:-0500
TZOFFSETTO:-0400
TZNAME:EDT
DTSTART:20200308T070000
END:DAYLIGHT
BEGIN:STANDARD
TZOFFSETFROM:-0400
TZOFFSETTO:-0500
TZNAME:EST
DTSTART:20201101T060000
END:STANDARD
BEGIN:DAYLIGHT
TZOFFSETFROM:-0500
TZOFFSETTO:-0400
TZNAME:EDT
DTSTART:20210314T070000
END:DAYLIGHT
BEGIN:STANDARD
TZOFFSETFROM:-0400
TZOFFSETTO:-0500
TZNAME:EST
DTSTART:20211107T060000
END:STANDARD
END:VTIMEZONE
BEGIN:VEVENT
DTSTART;TZID=America/New_York:20201219T120000
DTEND;TZID=America/New_York:20201219T160000
DTSTAMP:20260420T041748
CREATED:20201208T161109Z
LAST-MODIFIED:20201208T161257Z
UID:10003830-1608379200-1608393600@millriverpark.org
SUMMARY:Santa Comes to Town
DESCRIPTION:Come to the Steven & Alexandra Cohen Skating Center from noon to 4 and visit with Santa social distancing style.
URL:https://millriverpark.org/event/santa-comes-to-town/
LOCATION:30 West Broad Street\, Stamford\, CT\, 06902\, United States
CATEGORIES:Kids & Families,Skate
END:VEVENT
END:VCALENDAR