BEGIN:VCALENDAR
VERSION:2.0
PRODID:-//Mill River Park Collaborative - ECPv6.15.12.2//NONSGML v1.0//EN
CALSCALE:GREGORIAN
METHOD:PUBLISH
X-ORIGINAL-URL:https://millriverpark.org
X-WR-CALDESC:Events for Mill River Park Collaborative
REFRESH-INTERVAL;VALUE=DURATION:PT1H
X-Robots-Tag:noindex
X-PUBLISHED-TTL:PT1H
BEGIN:VTIMEZONE
TZID:America/New_York
BEGIN:DAYLIGHT
TZOFFSETFROM:-0500
TZOFFSETTO:-0400
TZNAME:EDT
DTSTART:20180311T070000
END:DAYLIGHT
BEGIN:STANDARD
TZOFFSETFROM:-0400
TZOFFSETTO:-0500
TZNAME:EST
DTSTART:20181104T060000
END:STANDARD
BEGIN:DAYLIGHT
TZOFFSETFROM:-0500
TZOFFSETTO:-0400
TZNAME:EDT
DTSTART:20190310T070000
END:DAYLIGHT
BEGIN:STANDARD
TZOFFSETFROM:-0400
TZOFFSETTO:-0500
TZNAME:EST
DTSTART:20191103T060000
END:STANDARD
BEGIN:DAYLIGHT
TZOFFSETFROM:-0500
TZOFFSETTO:-0400
TZNAME:EDT
DTSTART:20200308T070000
END:DAYLIGHT
BEGIN:STANDARD
TZOFFSETFROM:-0400
TZOFFSETTO:-0500
TZNAME:EST
DTSTART:20201101T060000
END:STANDARD
END:VTIMEZONE
BEGIN:VEVENT
DTSTART;TZID=America/New_York:20191221T170000
DTEND;TZID=America/New_York:20191221T210000
DTSTAMP:20260422T085009
CREATED:20191206T182110Z
LAST-MODIFIED:20191206T182110Z
UID:10003299-1576947600-1576962000@millriverpark.org
SUMMARY:Ice Bar
DESCRIPTION:Chill with us at the Half Full Winter Beer Garden Ice Bar on December 31st!  \nThe Beer Garden tent is located in Mill River Park and is open to the public until Sunday\, December 29th. \nBeer Garden Hours:\nFridays: 4 – 10 pm\nSaturdays: 12 – 10 pm\nSundays: 12 – 8 pm \nCo-working Tuesdays/Thursdays from 10 am – 3 pm\nEmbrace the hustle with co-working opportunities on Tuesdays and Thursdays from 10 am – 3 pm from December 6th through New Year’s!
URL:https://millriverpark.org/event/ice-bar/
LOCATION:30 West Broad Street\, Stamford\, CT\, 06902\, United States
END:VEVENT
END:VCALENDAR