BEGIN:VCALENDAR
VERSION:2.0
PRODID:-//Mill River Park Collaborative - ECPv6.15.12.2//NONSGML v1.0//EN
CALSCALE:GREGORIAN
METHOD:PUBLISH
X-WR-CALNAME:Mill River Park Collaborative
X-ORIGINAL-URL:https://millriverpark.org
X-WR-CALDESC:Events for Mill River Park Collaborative
REFRESH-INTERVAL;VALUE=DURATION:PT1H
X-Robots-Tag:noindex
X-PUBLISHED-TTL:PT1H
BEGIN:VTIMEZONE
TZID:America/New_York
BEGIN:DAYLIGHT
TZOFFSETFROM:-0500
TZOFFSETTO:-0400
TZNAME:EDT
DTSTART:20220313T070000
END:DAYLIGHT
BEGIN:STANDARD
TZOFFSETFROM:-0400
TZOFFSETTO:-0500
TZNAME:EST
DTSTART:20221106T060000
END:STANDARD
BEGIN:DAYLIGHT
TZOFFSETFROM:-0500
TZOFFSETTO:-0400
TZNAME:EDT
DTSTART:20230312T070000
END:DAYLIGHT
BEGIN:STANDARD
TZOFFSETFROM:-0400
TZOFFSETTO:-0500
TZNAME:EST
DTSTART:20231105T060000
END:STANDARD
BEGIN:DAYLIGHT
TZOFFSETFROM:-0500
TZOFFSETTO:-0400
TZNAME:EDT
DTSTART:20240310T070000
END:DAYLIGHT
BEGIN:STANDARD
TZOFFSETFROM:-0400
TZOFFSETTO:-0500
TZNAME:EST
DTSTART:20241103T060000
END:STANDARD
END:VTIMEZONE
BEGIN:VEVENT
DTSTART;TZID=America/New_York:20230101T140000
DTEND;TZID=America/New_York:20230101T200000
DTSTAMP:20260420T061402
CREATED:20221129T223719Z
LAST-MODIFIED:20221220T194708Z
UID:10004802-1672581600-1672603200@millriverpark.org
SUMMARY:Cohen Skating Center
DESCRIPTION:The Cohen Skating Center is now open for the 2022 – 2023 skating season! \nHoliday Hour\nJanuary 1st – 2pm – 8pm\nClick to purchase tickets. \nWeekdays\nMonday – Thursday: 5 – 9 PM\n$8 per child and $10 per adult\, plus optional $4/person skate rental \nWeekends\nFriday: 5 – 10 PM • Saturday: 11 AM – 10 PM • Sunday: 11 AM – 9 PM\n$10 per child and $12 per adult\, plus optional $4/person skate rental
URL:https://millriverpark.org/event/cohen-skating-center-2023-01-01/
LOCATION:30 West Broad Street\, Stamford\, CT\, 06902\, United States
CATEGORIES:Kids & Families,Skate
END:VEVENT
BEGIN:VEVENT
DTSTART;TZID=America/New_York:20230102T110000
DTEND;TZID=America/New_York:20230102T210000
DTSTAMP:20260420T061402
CREATED:20220815T204330Z
LAST-MODIFIED:20221220T193809Z
UID:10004806-1672657200-1672693200@millriverpark.org
SUMMARY:Whittingham Discovery Center
DESCRIPTION:  \n \nWhittingham Discovery Center\, our newest addition to the park\, is NOW OPEN! This state-of-the-art visitor and environmental center has FREE educational exhibits and activities for all ages. Visit today!
URL:https://millriverpark.org/event/whittingham-discovery-center-2023-01-02/
LOCATION:Whittingham Discovery Center\, 17 W Park Place\, Stamford\, CT\, 06902\, United States
CATEGORIES:Kids & Families,Whittingham Discovery Center
END:VEVENT
BEGIN:VEVENT
DTSTART;TZID=America/New_York:20230102T110000
DTEND;TZID=America/New_York:20230102T220000
DTSTAMP:20260420T061402
CREATED:20221129T223719Z
LAST-MODIFIED:20221220T194803Z
UID:10004804-1672657200-1672696800@millriverpark.org
SUMMARY:Cohen Skating Center
DESCRIPTION:The Cohen Skating Center is now open for the 2022 – 2023 skating season! \nHoliday Hour\nJanuary 2nd – 11am – 10pm\n\nClick to purchase tickets. \nWeekdays\nMonday – Thursday: 5 – 9 PM\n$8 per child and $10 per adult\, plus optional $4/person skate rental \nWeekends\nFriday: 5 – 10 PM • Saturday: 11 AM – 10 PM • Sunday: 11 AM – 9 PM\n$10 per child and $12 per adult\, plus optional $4/person skate rental
URL:https://millriverpark.org/event/cohen-skating-center-2023-01-02/
LOCATION:30 West Broad Street\, Stamford\, CT\, 06902\, United States
CATEGORIES:Kids & Families,Skate
END:VEVENT
BEGIN:VEVENT
DTSTART;TZID=America/New_York:20230104T100000
DTEND;TZID=America/New_York:20230104T200000
DTSTAMP:20260420T061402
CREATED:20220815T204330Z
LAST-MODIFIED:20230404T203651Z
UID:10004370-1672826400-1672862400@millriverpark.org
SUMMARY:Whittingham Discovery Center
DESCRIPTION:  \n \nWhittingham Discovery Center\, our newest addition to the park\, is NOW OPEN! This state-of-the-art visitor and environmental center has FREE educational exhibits and activities for all ages. Visit today!
URL:https://millriverpark.org/event/whittingham-discovery-center/2023-01-04/
LOCATION:Whittingham Discovery Center\, 17 W Park Place\, Stamford\, CT\, 06902\, United States
CATEGORIES:Kids & Families,Whittingham Discovery Center
END:VEVENT
BEGIN:VEVENT
DTSTART;TZID=America/New_York:20230111T093000
DTEND;TZID=America/New_York:20230111T110000
DTSTAMP:20260420T061402
CREATED:20230104T213912Z
LAST-MODIFIED:20230301T201344Z
UID:10004827-1673429400-1673434800@millriverpark.org
SUMMARY:Owls + Owlets
DESCRIPTION:Register Here \nJoin us for our new eight-week session of Owls + Owlets\, a peaceful playtime series created to help caregivers foster strong relationships of trust and understanding with their child(ren). \nThrough easy\, nature-inspired activities that are specifically designed for young learners\, your little owlets will develop their fine and gross motor skills. Children will also build on their social skills as they play and interact with other children!
URL:https://millriverpark.org/event/owls-owlets/2023-01-11/
LOCATION:Whittingham Discovery Center\, 17 W Park Place\, Stamford\, CT\, 06902\, United States
END:VEVENT
BEGIN:VEVENT
DTSTART;TZID=America/New_York:20230115T100000
DTEND;TZID=America/New_York:20230115T100000
DTSTAMP:20260420T061402
CREATED:20230110T160139Z
LAST-MODIFIED:20230110T160139Z
UID:10004837-1673776800-1673776800@millriverpark.org
SUMMARY:Sunday Funday: Martin Luther King Jr
DESCRIPTION:Join us at the Whittingham Discovery Center on Sunday\, Jan 15th\, at 10 AM. The kiddos will read “Who Was Martin Luther King Jr.” by Lisbeth Kaiser. The story honors and shares the life and work of one of the most influential civil rights activists.
URL:https://millriverpark.org/event/sunday-funday-martin-luther-king-jr/
LOCATION:Whittingham Discovery Center\, 17 W Park Place\, Stamford\, CT\, 06902\, United States
CATEGORIES:Whittingham Discovery Center
END:VEVENT
BEGIN:VEVENT
DTSTART;TZID=America/New_York:20230122T100000
DTEND;TZID=America/New_York:20230122T100000
DTSTAMP:20260420T061402
CREATED:20230110T161603Z
LAST-MODIFIED:20230110T161611Z
UID:10004838-1674381600-1674381600@millriverpark.org
SUMMARY:Sunday Funday: City Snow
DESCRIPTION:Join us at the Whittingham Discovery Center on Sunday\, Jan 22nd\, at 10 AM. The kiddos will read “Slushy\, Slurpy\, City Snow” by Brooke Vitale. The story will show that city snow isn’t as peaceful as it seems\, and surprises wait at every turn!
URL:https://millriverpark.org/event/sunday-fundau-city-snow/
LOCATION:Whittingham Discovery Center\, 17 W Park Place\, Stamford\, CT\, 06902\, United States
CATEGORIES:Whittingham Discovery Center
END:VEVENT
BEGIN:VEVENT
DTSTART;TZID=America/New_York:20230129T100000
DTEND;TZID=America/New_York:20230129T100000
DTSTAMP:20260420T061402
CREATED:20230110T162854Z
LAST-MODIFIED:20230110T164021Z
UID:10004839-1674986400-1674986400@millriverpark.org
SUMMARY:Sunday Funday: Winter Animals
DESCRIPTION:Join us at the Whittingham Discovery Center on Sunday\, Jan 29th\, at 10 AM. The kiddos will read “The Mitten” by Jan Brett. The story shows a young boy’s lost mitten\, leading to a charming snowy adventure!
URL:https://millriverpark.org/event/sunday-funday-the-mitten/
LOCATION:Whittingham Discovery Center\, 17 W Park Place\, Stamford\, CT\, 06902\, United States
CATEGORIES:Whittingham Discovery Center
END:VEVENT
BEGIN:VEVENT
DTSTART;TZID=America/New_York:20230205T100000
DTEND;TZID=America/New_York:20230205T110000
DTSTAMP:20260420T061402
CREATED:20230110T164220Z
LAST-MODIFIED:20230214T193630Z
UID:10004841-1675591200-1675594800@millriverpark.org
SUMMARY:Sunday Funday:  Groundhog Day
DESCRIPTION:Join us at the Whittingham Discovery Center on Sunday\, Feb 5th\, at 10 AM. The kiddos will read ” Groundhog’s Runaway Shadow” By David Biedrzycki. The Story Shows that Being friends isn’t always easy. True friends\, however\, always find their way back to each other.
URL:https://millriverpark.org/event/sunday-funday-groundhog-day/
LOCATION:Whittingham Discovery Center\, 17 W Park Place\, Stamford\, CT\, 06902\, United States
CATEGORIES:Whittingham Discovery Center
END:VEVENT
BEGIN:VEVENT
DTSTART;TZID=America/New_York:20230212T100000
DTEND;TZID=America/New_York:20230212T110000
DTSTAMP:20260420T061402
CREATED:20230110T170447Z
LAST-MODIFIED:20230214T193649Z
UID:10004904-1676196000-1676199600@millriverpark.org
SUMMARY:Sunday Funday: Love You to Pieces
DESCRIPTION:Join us at the Whittingham Discovery Center on Sunday\, Feb 12\, at 10 AM. The kiddos will read “Love from the Crayons” by Drew Daywalt. The story represents all the rainbow colors of love.
URL:https://millriverpark.org/event/sunday-funday-love-you-to-pieces/
LOCATION:Whittingham Discovery Center\, 17 W Park Place\, Stamford\, CT\, 06902\, United States
CATEGORIES:Whittingham Discovery Center
END:VEVENT
BEGIN:VEVENT
DTSTART;TZID=America/New_York:20230214T170000
DTEND;TZID=America/New_York:20230214T210000
DTSTAMP:20260420T061402
CREATED:20230210T210951Z
LAST-MODIFIED:20230210T210951Z
UID:10003931-1676394000-1676408400@millriverpark.org
SUMMARY:Valentine Day at The Rink
DESCRIPTION:Buy Rink Tickets Here  \nSpend your Valentine’s Day at the Cohen Skating Center. Bring your valentine or your friends! Take pictures together while skating on 2/14/23 for a chance to win two free tickets to the rink. One winner will be picked randomly\, and we will send a DM/Email to the winner with instructions on redeeming their free tickets.
URL:https://millriverpark.org/event/valentine-day-at-the-rink/
LOCATION:Cohen Skating Center\, 1040 Washington Boulevard\, Stamford\, CT\, 06901\, United States
CATEGORIES:Skate
END:VEVENT
BEGIN:VEVENT
DTSTART;TZID=America/New_York:20230217T100000
DTEND;TZID=America/New_York:20230217T120000
DTSTAMP:20260420T061402
CREATED:20230207T195306Z
LAST-MODIFIED:20230207T202012Z
UID:10004953-1676628000-1676635200@millriverpark.org
SUMMARY:Survivor: Wildlife in Winter
DESCRIPTION:Register Today \nA drop-off program for ages 6 – 10 at the Whittingham Discovery Center! Kids will learn how the Park’s wildlife fight tooth and nail to survive the winter. We’ll talk about how animal anatomy impacts survival strategy\, study tracks and related behaviors\, and learn how animals adjust their diets as food sources change.
URL:https://millriverpark.org/event/survivor-wildlife-in-winter/
LOCATION:Cohen Skating Center\, 1040 Washington Boulevard\, Stamford\, CT\, 06901\, United States
CATEGORIES:Whittingham Discovery Center
END:VEVENT
BEGIN:VEVENT
DTSTART;TZID=America/New_York:20230219T100000
DTEND;TZID=America/New_York:20230219T110000
DTSTAMP:20260420T061402
CREATED:20230110T171611Z
LAST-MODIFIED:20230214T193744Z
UID:10004947-1676800800-1676804400@millriverpark.org
SUMMARY:Sunday Funday:  President Day
DESCRIPTION:Join us at the Whittingham Discovery Center on Sunday\, Feb 19\, at 10 AM. The kiddos will read “Duck For President” by Doren Cronin. The story shows if he walks like a duck and talks like a duck\, he will be the next president of the United States of America.
URL:https://millriverpark.org/event/sunday-funday-president-day/
LOCATION:Whittingham Discovery Center\, 17 W Park Place\, Stamford\, CT\, 06902\, United States
CATEGORIES:Whittingham Discovery Center
END:VEVENT
BEGIN:VEVENT
DTSTART;TZID=America/New_York:20230223T163000
DTEND;TZID=America/New_York:20230223T183000
DTSTAMP:20260420T061402
CREATED:20230216T171240Z
LAST-MODIFIED:20230216T171942Z
UID:10003933-1677169800-1677177000@millriverpark.org
SUMMARY:CELF at Mill River Park
DESCRIPTION:Register Today! \nJoin CELF at Mill River Park in the heart of downtown Stamford for a FREE outdoor field experience focused on place-based education through the lens of sustainability. Aligned with NGSS! Cultivate community among fellow K-12 educators.
URL:https://millriverpark.org/event/24102/
LOCATION:30 West Broad Street\, Stamford\, CT\, 06902\, United States
CATEGORIES:Whittingham Discovery Center
END:VEVENT
BEGIN:VEVENT
DTSTART;TZID=America/New_York:20230225T100000
DTEND;TZID=America/New_York:20230225T120000
DTSTAMP:20260420T061402
CREATED:20230209T135722Z
LAST-MODIFIED:20230209T135722Z
UID:10003923-1677319200-1677326400@millriverpark.org
SUMMARY:Art in the Park
DESCRIPTION:Join us for this year’s Art in the Park\, presented by the @Stamford Art Association and located in Mill River Park!\n\nVisit the Whittingham Discovery Center from 10 AM – 12 PM for free\, open-to-the-public art workshops led by seasoned art teachers. These workshops are great for families and kids in elementary school and middle school\, and at the end\, you will get to take home your piece of unique art.\n\nNo registration required!
URL:https://millriverpark.org/event/art-in-the-park-2/2023-02-25/
LOCATION:30 West Broad Street\, Stamford\, CT\, 06902\, United States
CATEGORIES:Whittingham Discovery Center
END:VEVENT
BEGIN:VEVENT
DTSTART;TZID=America/New_York:20230226T100000
DTEND;TZID=America/New_York:20230226T110000
DTSTAMP:20260420T061402
CREATED:20230110T171854Z
LAST-MODIFIED:20230214T193806Z
UID:10004949-1677405600-1677409200@millriverpark.org
SUMMARY:Sunday Funday: An Extraordinary Day
DESCRIPTION:Join us at the Whittingham Discovery Center on Sunday\, Feb 26\, at 10 AM. The kiddos will read “Parker Looks Up” by Jessica Curry and Parker Curry. The story showcases that an everyday moment can become extraordinary…a moment that will continue to resonate with power\, inspiration\, and indelible impact.
URL:https://millriverpark.org/event/sunday-funday-an-extraordinary-day/
LOCATION:Whittingham Discovery Center\, 17 W Park Place\, Stamford\, CT\, 06902\, United States
CATEGORIES:Whittingham Discovery Center
END:VEVENT
BEGIN:VEVENT
DTSTART;TZID=America/New_York:20230305T100000
DTEND;TZID=America/New_York:20230305T110000
DTSTAMP:20260420T061402
CREATED:20230110T172332Z
LAST-MODIFIED:20230214T193537Z
UID:10004951-1678010400-1678014000@millriverpark.org
SUMMARY:Sunday Funday: Woman’s Day
DESCRIPTION:Join us at the Whittingham Discovery Center on Sunday\, March 5\, at 10 AM. The kiddos will read “ABC\, What Can She Be?” by Sugar Snap Studio. The story presents a world of possibilities—from astronauts to zoologists and everything in between for all little kids with big dreams.
URL:https://millriverpark.org/event/sunday-funday-womans-day/
LOCATION:Whittingham Discovery Center\, 17 W Park Place\, Stamford\, CT\, 06902\, United States
CATEGORIES:Whittingham Discovery Center
END:VEVENT
BEGIN:VEVENT
DTSTART;TZID=America/New_York:20230324T130000
DTEND;TZID=America/New_York:20230324T143000
DTSTAMP:20260420T061402
CREATED:20230301T180001Z
LAST-MODIFIED:20230302T185536Z
UID:10004967-1679662800-1679668200@millriverpark.org
SUMMARY:Sticky Science
DESCRIPTION:Register Here\nJoin us on March 24 from 1 – 2:30 pm for our FREE Sticky Science drop-off class at the Whittingham Discovery Center. We will look to nature for inspiration as your young scientists experiment with making different materials and testing them to see which is stronger. Stickiness abounds in this fun-filled class for ages between 7 – 10 years old!\n\n\nThanks to generous funding from Henkel\, Inc.\, this Researchers’ WorldTM Sticky Science class is provided free of charge.
URL:https://millriverpark.org/event/sticky-situations/
LOCATION:Whittingham Discovery Center\, 17 W Park Place\, Stamford\, CT\, 06902\, United States
END:VEVENT
BEGIN:VEVENT
DTSTART;TZID=America/New_York:20230402T100000
DTEND;TZID=America/New_York:20230402T100000
DTSTAMP:20260420T061402
CREATED:20230222T171620Z
LAST-MODIFIED:20230327T195047Z
UID:10003935-1680429600-1680429600@millriverpark.org
SUMMARY:Sunday Funday- Rainbow Fish
DESCRIPTION:Join us at the Whittingham Discovery Center on Sunday\, April 2nd\, at 10 AM. The kiddos will read “Rainbow Fish” by Marcus Pfister. The story shows you can’t win friends through beauty but with your personality.
URL:https://millriverpark.org/event/spring-sunday-fundays/
LOCATION:Whittingham Discovery Center\, 17 W Park Place\, Stamford\, CT\, 06902\, United States
CATEGORIES:Whittingham Discovery Center
END:VEVENT
BEGIN:VEVENT
DTSTART;TZID=America/New_York:20230404T100000
DTEND;TZID=America/New_York:20230404T200000
DTSTAMP:20260420T061402
CREATED:20220815T205259Z
LAST-MODIFIED:20230404T141513Z
UID:10003827-1680602400-1680638400@millriverpark.org
SUMMARY:Whittingham Discovery Center
DESCRIPTION:Whittingham Discovery Center\, our newest addition to the park\, is NOW OPEN! This state-of-the-art visitor and environmental center has FREE educational exhibits and activities for all ages. Visit today!
URL:https://millriverpark.org/event/whittingham-discovery-center-3-2024-07-07/2023-04-04/
LOCATION:Whittingham Discovery Center\, 17 W Park Place\, Stamford\, CT\, 06902\, United States
CATEGORIES:Kids & Families,Whittingham Discovery Center
END:VEVENT
BEGIN:VEVENT
DTSTART;TZID=America/New_York:20230408T100000
DTEND;TZID=America/New_York:20230408T170000
DTSTAMP:20260420T061402
CREATED:20220815T204957Z
LAST-MODIFIED:20230329T155102Z
UID:10003825-1680948000-1680973200@millriverpark.org
SUMMARY:Whittingham Discovery Center
DESCRIPTION:Whittingham Discovery Center\, our newest addition to the park\, is NOW OPEN! This state-of-the-art visitor and environmental center has FREE educational exhibits and activities for all ages. Visit today!
URL:https://millriverpark.org/event/whittingham-discovery-center-2-2023-04-08/
LOCATION:Whittingham Discovery Center\, 17 W Park Place\, Stamford\, CT\, 06902\, United States
CATEGORIES:Kids & Families,Whittingham Discovery Center
END:VEVENT
BEGIN:VEVENT
DTSTART;TZID=America/New_York:20230408T120000
DTEND;TZID=America/New_York:20230408T150000
DTSTAMP:20260420T061402
CREATED:20230324T223253Z
LAST-MODIFIED:20230331T155351Z
UID:10004968-1680955200-1680966000@millriverpark.org
SUMMARY:Easter Bunny Trail
DESCRIPTION:REGISTRATION IS NOW FULL! \nJoin us on April 8th from 12 – 3 pm for our new Easter Bunny Trail event on the Park’s West Side! This free event includes a bunny trail with 12 egg stations and a photo-op with spring-time inflatables. The Carousel will also be open with easter-themed treats and snacks. Bring your own basket!
URL:https://millriverpark.org/event/easter-egg-hunt-23/
LOCATION:30 West Broad Street\, Stamford\, CT\, 06902\, United States
CATEGORIES:Kids & Families,Special Events
END:VEVENT
BEGIN:VEVENT
DTSTART;TZID=America/New_York:20230416T100000
DTEND;TZID=America/New_York:20230416T100000
DTSTAMP:20260420T061402
CREATED:20230222T171620Z
LAST-MODIFIED:20230327T195129Z
UID:10003953-1681639200-1681639200@millriverpark.org
SUMMARY:Sunday Funday -The Tiny Seed
DESCRIPTION:Join us at the Whittingham Discovery Center on Sunday\, April 16\, at 10 AM. The kiddos will read “The Tiny Seed”by Eric Carle. The kiddos will learn the tiny seed progression into a beautiful flower.
URL:https://millriverpark.org/event/spring-sunday-fundays-2023-04-16/
LOCATION:Whittingham Discovery Center\, 17 W Park Place\, Stamford\, CT\, 06902\, United States
CATEGORIES:Whittingham Discovery Center
END:VEVENT
BEGIN:VEVENT
DTSTART;TZID=America/New_York:20230417T163000
DTEND;TZID=America/New_York:20230417T180000
DTSTAMP:20260420T061402
CREATED:20230407T193206Z
LAST-MODIFIED:20230407T193206Z
UID:10005042-1681749000-1681754400@millriverpark.org
SUMMARY:Upcycled Fairy Houses
DESCRIPTION:Join us for a recycled crafting activity for elementary-aged kids as we create whimsical and colorful fairy houses out of reused materials in honor of Earth Day. Registration required! \nREGISTER TODAY \nAGES: 5 – 10 years old \nCOST: FREE
URL:https://millriverpark.org/event/upcycled-fairy-houses/
LOCATION:Whittingham Discovery Center\, 17 W Park Place\, Stamford\, CT\, 06902\, United States
CATEGORIES:Kids & Families,Whittingham Discovery Center
ATTACH;FMTTYPE=image/png:https://millriverpark.org/wp-content/uploads/2023/04/eblastheader800x300-fairy.png
END:VEVENT
BEGIN:VEVENT
DTSTART;TZID=America/New_York:20230419T163000
DTEND;TZID=America/New_York:20230419T183000
DTSTAMP:20260420T061402
CREATED:20230407T194149Z
LAST-MODIFIED:20230407T194149Z
UID:10005044-1681921800-1681929000@millriverpark.org
SUMMARY:Public Park Cleanup
DESCRIPTION:Join us for a public park clean-up! We will meet outside the Whittingham Discovery Center on the patio and provide volunteers with the necessary supplies. This event will be simply gathering trash as the group moves around the park doing one big earth-loving lap. \nNOTE: Minors must be accompanied by an adult. This activity is not recommended for children under the age of five. \nREGISTER NOW \nWHO: Adults and Children ages 5+ \nCOST: FREE
URL:https://millriverpark.org/event/earthweek-park-cleanup/
LOCATION:Whittingham Discovery Center\, 17 W Park Place\, Stamford\, CT\, 06902\, United States
CATEGORIES:Kids & Families,Whittingham Discovery Center
ATTACH;FMTTYPE=image/png:https://millriverpark.org/wp-content/uploads/2023/04/eblastheader800x300-cleanup.png
END:VEVENT
BEGIN:VEVENT
DTSTART;TZID=America/New_York:20230422T130000
DTEND;TZID=America/New_York:20230422T143000
DTSTAMP:20260420T061402
CREATED:20230407T195203Z
LAST-MODIFIED:20230410T161957Z
UID:10005045-1682168400-1682173800@millriverpark.org
SUMMARY:Earth Paints with Flowers
DESCRIPTION:After a long\, frosty winter\, Spring has arrived! Fields are sprinkled with wildflowers like daffodils and hyacinth\, and our gardens are starting to bloom! Did you know that we can make paint from the colors in some flowers? This Earth Day\, we will experiment with a few kinds of flowers to make paint and alter the pH to make a wide range of colors. Each child will return home with a one-of-a-kind framed watercolor painting! Registration required. \nREGISTER TODAY \nWHO:  Ages 6 –10 \nHOW MUCH:  $15 per child (materials included)
URL:https://millriverpark.org/event/earth-paints/
LOCATION:Whittingham Discovery Center\, 17 W Park Place\, Stamford\, CT\, 06902\, United States
CATEGORIES:Kids & Families,Whittingham Discovery Center
ATTACH;FMTTYPE=image/png:https://millriverpark.org/wp-content/uploads/2023/04/eblastheader800x300-flowerpaint.png
END:VEVENT
BEGIN:VEVENT
DTSTART;TZID=America/New_York:20230423T100000
DTEND;TZID=America/New_York:20230423T100000
DTSTAMP:20260420T061402
CREATED:20230222T171620Z
LAST-MODIFIED:20230330T152001Z
UID:10003954-1682244000-1682244000@millriverpark.org
SUMMARY:Sunday Funday-Spring Stinks
DESCRIPTION:Join us at the Whittingham Discovery Center on Sunday\, April 23\, at 10 AM. The kiddos will read “ Spring Stinks”by Ryan Y. Higgins. The kiddos will see a funny tale between a bunny and a bear’s  reaction to the spring weather.
URL:https://millriverpark.org/event/spring-sunday-fundays-2023-04-23/
LOCATION:Whittingham Discovery Center\, 17 W Park Place\, Stamford\, CT\, 06902\, United States
CATEGORIES:Whittingham Discovery Center
END:VEVENT
BEGIN:VEVENT
DTSTART;TZID=America/New_York:20230430T100000
DTEND;TZID=America/New_York:20230430T100000
DTSTAMP:20260420T061402
CREATED:20230222T171620Z
LAST-MODIFIED:20230328T000755Z
UID:10003956-1682848800-1682848800@millriverpark.org
SUMMARY:Sunday Funday-Mindful Me
DESCRIPTION:Join us at the Whittingham Discovery Center on Sunday\, April 30\, at 10 AM. The kiddos will read ““ABC Mindful Me”by Christiane Engel. the kiddos will learn their ABCs\, but also introduce  them to key mindfulness tenets which promote physical and mental wellness through breathing\, compassion\, gratitude\, and kindness.
URL:https://millriverpark.org/event/spring-sunday-fundays-2023-04-30/
LOCATION:Whittingham Discovery Center\, 17 W Park Place\, Stamford\, CT\, 06902\, United States
CATEGORIES:Whittingham Discovery Center
END:VEVENT
BEGIN:VEVENT
DTSTART;TZID=America/New_York:20230505T160000
DTEND;TZID=America/New_York:20230505T230000
DTSTAMP:20260420T061402
CREATED:20230505T194417Z
LAST-MODIFIED:20230505T200259Z
UID:10005140-1683302400-1683327600@millriverpark.org
SUMMARY:Park Closure for Cinco Loco
DESCRIPTION:The North entrance near UConn campus and the rear entrance will be closed to the public on May 5\, 6 and 7 from 4 – 11 PM for the Cinco Loco event. The fenced-in Dog Park will still be open during this time. \nThere will be amplified music that will finish at 10 PM. \n  \nFor Cinco Loco tickets\, click the link below: \n\n2023 Cinco Loco Taco Festival
URL:https://millriverpark.org/event/park-closure-for-cinco-loco/2023-05-05/
LOCATION:30 West Broad Street\, Stamford\, CT\, 06902\, United States
ATTACH;FMTTYPE=image/png:https://millriverpark.org/wp-content/uploads/2023/05/header_image.png
END:VEVENT
BEGIN:VEVENT
DTSTART;TZID=America/New_York:20230505T180000
DTEND;TZID=America/New_York:20230505T220000
DTSTAMP:20260420T061402
CREATED:20230505T193857Z
LAST-MODIFIED:20230505T194327Z
UID:10005139-1683309600-1683324000@millriverpark.org
SUMMARY:Cinco Loco- DJ Pauly D
DESCRIPTION:  DOORS: 6 PM  PAULY D: 8 PM\,  21+ (w/ valid ID) \nPurchase Tickets Here
URL:https://millriverpark.org/event/cinco-loco-dj-pauly-d/
LOCATION:30 West Broad Street\, Stamford\, CT\, 06902\, United States
END:VEVENT
END:VCALENDAR