BEGIN:VCALENDAR
VERSION:2.0
PRODID:-//Mill River Park Collaborative - ECPv6.15.12.2//NONSGML v1.0//EN
CALSCALE:GREGORIAN
METHOD:PUBLISH
X-ORIGINAL-URL:https://millriverpark.org
X-WR-CALDESC:Events for Mill River Park Collaborative
REFRESH-INTERVAL;VALUE=DURATION:PT1H
X-Robots-Tag:noindex
X-PUBLISHED-TTL:PT1H
BEGIN:VTIMEZONE
TZID:America/New_York
BEGIN:DAYLIGHT
TZOFFSETFROM:-0500
TZOFFSETTO:-0400
TZNAME:EDT
DTSTART:20230312T070000
END:DAYLIGHT
BEGIN:STANDARD
TZOFFSETFROM:-0400
TZOFFSETTO:-0500
TZNAME:EST
DTSTART:20231105T060000
END:STANDARD
BEGIN:DAYLIGHT
TZOFFSETFROM:-0500
TZOFFSETTO:-0400
TZNAME:EDT
DTSTART:20240310T070000
END:DAYLIGHT
BEGIN:STANDARD
TZOFFSETFROM:-0400
TZOFFSETTO:-0500
TZNAME:EST
DTSTART:20241103T060000
END:STANDARD
BEGIN:DAYLIGHT
TZOFFSETFROM:-0500
TZOFFSETTO:-0400
TZNAME:EDT
DTSTART:20250309T070000
END:DAYLIGHT
BEGIN:STANDARD
TZOFFSETFROM:-0400
TZOFFSETTO:-0500
TZNAME:EST
DTSTART:20251102T060000
END:STANDARD
END:VTIMEZONE
BEGIN:VEVENT
DTSTART;TZID=America/New_York:20241001T160000
DTEND;TZID=America/New_York:20241001T200000
DTSTAMP:20260422T004014
CREATED:20220815T205259Z
LAST-MODIFIED:20240715T163845Z
UID:10004625-1727798400-1727812800@millriverpark.org
SUMMARY:Whittingham Discovery Center
DESCRIPTION:Whittingham Discovery Center\, our newest addition to the park\, is NOW OPEN! This state-of-the-art visitor and environmental center has FREE educational exhibits and activities for all ages. Visit today!
URL:https://millriverpark.org/event/whittingham-discovery-center-3/2024-10-01/
LOCATION:Whittingham Discovery Center\, 17 W Park Place\, Stamford\, CT\, 06902\, United States
CATEGORIES:Kids & Families,Whittingham Discovery Center
END:VEVENT
BEGIN:VEVENT
DTSTART;TZID=America/New_York:20241006T100000
DTEND;TZID=America/New_York:20241006T110000
DTSTAMP:20260422T004014
CREATED:20240819T171245Z
LAST-MODIFIED:20240819T171252Z
UID:10005666-1728208800-1728212400@millriverpark.org
SUMMARY:"I Want to be an Astronaut" by Becky Davies
DESCRIPTION:Come with your family this Spring for Sunday Funday! The kiddos will read books promptly at 10 AM every Sunday at the Whittingham Discovery Center. The read-along will be accompanied by FREE snacks and an activity. \nDo you want to be an astronaut? Open this book to find out what adventures await! \nThis book will help kids to imagine what it’s like to be an astronaut! Starting with putting on the spacesuit and then entering the cockpit before blastoff\, to visiting the space station and zooming around some planets\, this book provides an early introduction to a day in the life of a busy astronaut. The surprise mirror at the end provides a fun\, interactive bonus! \nPLUS the first 25 participants will get a free copy of the book read that day!
URL:https://millriverpark.org/event/i-want-to-be-an-astronaut-by-becky-davies/
LOCATION:30 West Broad Street\, Stamford\, CT\, 06902\, United States
CATEGORIES:Kids & Families,Whittingham Discovery Center
END:VEVENT
BEGIN:VEVENT
DTSTART;TZID=America/New_York:20241013T100000
DTEND;TZID=America/New_York:20241013T110000
DTSTAMP:20260422T004014
CREATED:20240819T171450Z
LAST-MODIFIED:20240819T171650Z
UID:10005667-1728813600-1728817200@millriverpark.org
SUMMARY:"Iggy Peck\, Architect" by Andrea Beatty
DESCRIPTION:Come with your family this Spring for Sunday Funday! The kiddos will read books promptly at 10 AM and  The read-along will be accompanied by FREE snacks and an activity. NOTE: This Sunday Funday will occur at the Carousel Pavilion on 30 W Broad Street. \nSome kids sculpt sandcastles. Some make mud pies. Some construct great block towers. But none are better at building than Iggy Peck\, who once erected a life-size replica of the Great Sphinx on his front lawn! \nPLUS the first 25 participants will get a free copy of the book read that day!
URL:https://millriverpark.org/event/iggy-peck-architect-by-andrea-beatty/
LOCATION:30 West Broad Street\, Stamford\, CT\, 06902\, United States
CATEGORIES:Kids & Families,Whittingham Discovery Center
END:VEVENT
BEGIN:VEVENT
DTSTART;TZID=America/New_York:20241020T100000
DTEND;TZID=America/New_York:20241020T110000
DTSTAMP:20260422T004014
CREATED:20240819T172302Z
LAST-MODIFIED:20240819T172302Z
UID:10005668-1729418400-1729422000@millriverpark.org
SUMMARY:"Fireman Small" by Wong Herbert Yee
DESCRIPTION:Come with your family this Spring for Sunday Funday! The kiddos will read books promptly at 10 AM every Sunday at the Whittingham Discovery Center. The read-along will be accompanied by FREE snacks and an activity \nFireman Small has had a busy day rescuing people and fighting fires and it‘s not over yet. Just as he’s preparing for a good night’s sleep\, the fire bell rings yet again. \nSmall and his faithful Dalmatian make a charming pair\, and this simple rhyming story is endearing \n\n\nPlus the  first 25 participants will get a free copy of the book read that day!
URL:https://millriverpark.org/event/fireman-small-by-wong-herbert-yee/
LOCATION:30 West Broad Street\, Stamford\, CT\, 06902\, United States
CATEGORIES:Kids & Families,Whittingham Discovery Center
END:VEVENT
BEGIN:VEVENT
DTSTART;TZID=America/New_York:20241026T100000
DTEND;TZID=America/New_York:20241026T120000
DTSTAMP:20260422T004014
CREATED:20240912T173303Z
LAST-MODIFIED:20240912T173303Z
UID:10005677-1729936800-1729944000@millriverpark.org
SUMMARY:Art in the Park - Masks
DESCRIPTION:Get crafty with Art in the Park! Presented by the Stamford Art Association\, release your creative energy at the Whittingham Discovery Center from 10 AM – 12 PM with complimentary workshops guided by experienced art instructors. Construct masks on the spirit of Halloween!
URL:https://millriverpark.org/event/art-in-the-park-masks/
LOCATION:Whittingham Discovery Center\, 17 W Park Place\, Stamford\, CT\, 06902\, United States
CATEGORIES:Kids & Families,Whittingham Discovery Center
END:VEVENT
BEGIN:VEVENT
DTSTART;TZID=America/New_York:20241027T100000
DTEND;TZID=America/New_York:20241027T110000
DTSTAMP:20260422T004014
CREATED:20240819T172444Z
LAST-MODIFIED:20240819T172444Z
UID:10005669-1730023200-1730026800@millriverpark.org
SUMMARY:"Busy people: Police Officer" by Lucy M. George
DESCRIPTION:Come with your family this Spring for Sunday Funday! The kiddos will read books promptly at 10 AM every Sunday at the Whittingham Discovery Center. The read-along will be accompanied by FREE snacks and an activity. \nIt’s a busy day at the festival for Officer Seth and Officer Thea. A car is stuck in the mud and a little boy needs their help. Can the officers solve every problem that comes their way? Discover what its really like to be a police officer and what the responsibilities of being in the police force are in this delightful picture book. A fun and fascinating first guide to an exciting profession\, in the Busy People series for young children. \nPLUS the first 25 participants will get a free copy of the book read that day!
URL:https://millriverpark.org/event/busy-people-police-officer-by-lucy-m-george/
LOCATION:30 West Broad Street\, Stamford\, CT\, 06902\, United States
CATEGORIES:Kids & Families,Whittingham Discovery Center
END:VEVENT
END:VCALENDAR