BEGIN:VCALENDAR
VERSION:2.0
PRODID:-//Mill River Park Collaborative - ECPv6.15.12.2//NONSGML v1.0//EN
CALSCALE:GREGORIAN
METHOD:PUBLISH
X-ORIGINAL-URL:https://millriverpark.org
X-WR-CALDESC:Events for Mill River Park Collaborative
REFRESH-INTERVAL;VALUE=DURATION:PT1H
X-Robots-Tag:noindex
X-PUBLISHED-TTL:PT1H
BEGIN:VTIMEZONE
TZID:America/New_York
BEGIN:DAYLIGHT
TZOFFSETFROM:-0500
TZOFFSETTO:-0400
TZNAME:EDT
DTSTART:20230312T070000
END:DAYLIGHT
BEGIN:STANDARD
TZOFFSETFROM:-0400
TZOFFSETTO:-0500
TZNAME:EST
DTSTART:20231105T060000
END:STANDARD
BEGIN:DAYLIGHT
TZOFFSETFROM:-0500
TZOFFSETTO:-0400
TZNAME:EDT
DTSTART:20240310T070000
END:DAYLIGHT
BEGIN:STANDARD
TZOFFSETFROM:-0400
TZOFFSETTO:-0500
TZNAME:EST
DTSTART:20241103T060000
END:STANDARD
BEGIN:DAYLIGHT
TZOFFSETFROM:-0500
TZOFFSETTO:-0400
TZNAME:EDT
DTSTART:20250309T070000
END:DAYLIGHT
BEGIN:STANDARD
TZOFFSETFROM:-0400
TZOFFSETTO:-0500
TZNAME:EST
DTSTART:20251102T060000
END:STANDARD
END:VTIMEZONE
BEGIN:VEVENT
DTSTART;TZID=America/New_York:20240902T160000
DTEND;TZID=America/New_York:20240902T200000
DTSTAMP:20260421T230724
CREATED:20220815T205259Z
LAST-MODIFIED:20240715T163845Z
UID:10004608-1725292800-1725307200@millriverpark.org
SUMMARY:Whittingham Discovery Center
DESCRIPTION:Whittingham Discovery Center\, our newest addition to the park\, is NOW OPEN! This state-of-the-art visitor and environmental center has FREE educational exhibits and activities for all ages. Visit today!
URL:https://millriverpark.org/event/whittingham-discovery-center-3/2024-09-02/
LOCATION:Whittingham Discovery Center\, 17 W Park Place\, Stamford\, CT\, 06902\, United States
CATEGORIES:Kids & Families,Whittingham Discovery Center
END:VEVENT
BEGIN:VEVENT
DTSTART;TZID=America/New_York:20240903T160000
DTEND;TZID=America/New_York:20240903T200000
DTSTAMP:20260421T230724
CREATED:20220815T205259Z
LAST-MODIFIED:20240715T163845Z
UID:10004609-1725379200-1725393600@millriverpark.org
SUMMARY:Whittingham Discovery Center
DESCRIPTION:Whittingham Discovery Center\, our newest addition to the park\, is NOW OPEN! This state-of-the-art visitor and environmental center has FREE educational exhibits and activities for all ages. Visit today!
URL:https://millriverpark.org/event/whittingham-discovery-center-3/2024-09-03/
LOCATION:Whittingham Discovery Center\, 17 W Park Place\, Stamford\, CT\, 06902\, United States
CATEGORIES:Kids & Families,Whittingham Discovery Center
END:VEVENT
BEGIN:VEVENT
DTSTART;TZID=America/New_York:20240904T160000
DTEND;TZID=America/New_York:20240904T200000
DTSTAMP:20260421T230724
CREATED:20220815T205259Z
LAST-MODIFIED:20240715T163845Z
UID:10004610-1725465600-1725480000@millriverpark.org
SUMMARY:Whittingham Discovery Center
DESCRIPTION:Whittingham Discovery Center\, our newest addition to the park\, is NOW OPEN! This state-of-the-art visitor and environmental center has FREE educational exhibits and activities for all ages. Visit today!
URL:https://millriverpark.org/event/whittingham-discovery-center-3/2024-09-04/
LOCATION:Whittingham Discovery Center\, 17 W Park Place\, Stamford\, CT\, 06902\, United States
CATEGORIES:Kids & Families,Whittingham Discovery Center
END:VEVENT
BEGIN:VEVENT
DTSTART;TZID=America/New_York:20240905T160000
DTEND;TZID=America/New_York:20240905T200000
DTSTAMP:20260421T230724
CREATED:20220815T205259Z
LAST-MODIFIED:20240715T163845Z
UID:10004611-1725552000-1725566400@millriverpark.org
SUMMARY:Whittingham Discovery Center
DESCRIPTION:Whittingham Discovery Center\, our newest addition to the park\, is NOW OPEN! This state-of-the-art visitor and environmental center has FREE educational exhibits and activities for all ages. Visit today!
URL:https://millriverpark.org/event/whittingham-discovery-center-3/2024-09-05/
LOCATION:Whittingham Discovery Center\, 17 W Park Place\, Stamford\, CT\, 06902\, United States
CATEGORIES:Kids & Families,Whittingham Discovery Center
END:VEVENT
BEGIN:VEVENT
DTSTART;TZID=America/New_York:20240909T160000
DTEND;TZID=America/New_York:20240909T200000
DTSTAMP:20260421T230724
CREATED:20220815T205259Z
LAST-MODIFIED:20240715T163845Z
UID:10004612-1725897600-1725912000@millriverpark.org
SUMMARY:Whittingham Discovery Center
DESCRIPTION:Whittingham Discovery Center\, our newest addition to the park\, is NOW OPEN! This state-of-the-art visitor and environmental center has FREE educational exhibits and activities for all ages. Visit today!
URL:https://millriverpark.org/event/whittingham-discovery-center-3/2024-09-09/
LOCATION:Whittingham Discovery Center\, 17 W Park Place\, Stamford\, CT\, 06902\, United States
CATEGORIES:Kids & Families,Whittingham Discovery Center
END:VEVENT
BEGIN:VEVENT
DTSTART;TZID=America/New_York:20240910T160000
DTEND;TZID=America/New_York:20240910T200000
DTSTAMP:20260421T230724
CREATED:20220815T205259Z
LAST-MODIFIED:20240715T163845Z
UID:10004613-1725984000-1725998400@millriverpark.org
SUMMARY:Whittingham Discovery Center
DESCRIPTION:Whittingham Discovery Center\, our newest addition to the park\, is NOW OPEN! This state-of-the-art visitor and environmental center has FREE educational exhibits and activities for all ages. Visit today!
URL:https://millriverpark.org/event/whittingham-discovery-center-3/2024-09-10/
LOCATION:Whittingham Discovery Center\, 17 W Park Place\, Stamford\, CT\, 06902\, United States
CATEGORIES:Kids & Families,Whittingham Discovery Center
END:VEVENT
BEGIN:VEVENT
DTSTART;TZID=America/New_York:20240911T160000
DTEND;TZID=America/New_York:20240911T200000
DTSTAMP:20260421T230724
CREATED:20220815T205259Z
LAST-MODIFIED:20240715T163845Z
UID:10004614-1726070400-1726084800@millriverpark.org
SUMMARY:Whittingham Discovery Center
DESCRIPTION:Whittingham Discovery Center\, our newest addition to the park\, is NOW OPEN! This state-of-the-art visitor and environmental center has FREE educational exhibits and activities for all ages. Visit today!
URL:https://millriverpark.org/event/whittingham-discovery-center-3/2024-09-11/
LOCATION:Whittingham Discovery Center\, 17 W Park Place\, Stamford\, CT\, 06902\, United States
CATEGORIES:Kids & Families,Whittingham Discovery Center
END:VEVENT
BEGIN:VEVENT
DTSTART;TZID=America/New_York:20240912T160000
DTEND;TZID=America/New_York:20240912T200000
DTSTAMP:20260421T230724
CREATED:20220815T205259Z
LAST-MODIFIED:20240715T163845Z
UID:10004615-1726156800-1726171200@millriverpark.org
SUMMARY:Whittingham Discovery Center
DESCRIPTION:Whittingham Discovery Center\, our newest addition to the park\, is NOW OPEN! This state-of-the-art visitor and environmental center has FREE educational exhibits and activities for all ages. Visit today!
URL:https://millriverpark.org/event/whittingham-discovery-center-3/2024-09-12/
LOCATION:Whittingham Discovery Center\, 17 W Park Place\, Stamford\, CT\, 06902\, United States
CATEGORIES:Kids & Families,Whittingham Discovery Center
END:VEVENT
BEGIN:VEVENT
DTSTART;TZID=America/New_York:20240915T100000
DTEND;TZID=America/New_York:20240915T110000
DTSTAMP:20260421T230724
CREATED:20240819T170805Z
LAST-MODIFIED:20240826T183252Z
UID:10005663-1726394400-1726398000@millriverpark.org
SUMMARY:"Clothesline Clues to Jobs People Do\,” by Kathryn Heling
DESCRIPTION:Come with your family this Spring for Sunday Funday! The kiddos will read books promptly at 10 AM every Sunday at the Whittingham Discovery Center. The read-along will be accompanied by FREE snacks and an activity. \n\n\n\n\nPerfect for kids interested in different professions around town. \nWho wears what to work? The clues in each kid-friendly rhyme can be spotted hanging from the clothesline—from a mail carrier’s uniform to a firefighter’s pants and heavy coat. Then turn the page to learn which professionals wear and use the special gear in the jobs they do. Clever illustrations show the workers helping one another\, and in the end\, everyone comes together for a celebration that is out of this world. \nPLUS the first 25 participants will get a free copy of the book read that day!
URL:https://millriverpark.org/event/clothesline-clues-to-jobs-people-do-by-kathryn-heling/
LOCATION:30 West Broad Street\, Stamford\, CT\, 06902\, United States
CATEGORIES:Kids & Families,Whittingham Discovery Center
END:VEVENT
BEGIN:VEVENT
DTSTART;TZID=America/New_York:20240916T160000
DTEND;TZID=America/New_York:20240916T200000
DTSTAMP:20260421T230724
CREATED:20220815T205259Z
LAST-MODIFIED:20240715T163845Z
UID:10004616-1726502400-1726516800@millriverpark.org
SUMMARY:Whittingham Discovery Center
DESCRIPTION:Whittingham Discovery Center\, our newest addition to the park\, is NOW OPEN! This state-of-the-art visitor and environmental center has FREE educational exhibits and activities for all ages. Visit today!
URL:https://millriverpark.org/event/whittingham-discovery-center-3/2024-09-16/
LOCATION:Whittingham Discovery Center\, 17 W Park Place\, Stamford\, CT\, 06902\, United States
CATEGORIES:Kids & Families,Whittingham Discovery Center
END:VEVENT
BEGIN:VEVENT
DTSTART;TZID=America/New_York:20240917T160000
DTEND;TZID=America/New_York:20240917T200000
DTSTAMP:20260421T230724
CREATED:20220815T205259Z
LAST-MODIFIED:20240715T163845Z
UID:10004617-1726588800-1726603200@millriverpark.org
SUMMARY:Whittingham Discovery Center
DESCRIPTION:Whittingham Discovery Center\, our newest addition to the park\, is NOW OPEN! This state-of-the-art visitor and environmental center has FREE educational exhibits and activities for all ages. Visit today!
URL:https://millriverpark.org/event/whittingham-discovery-center-3/2024-09-17/
LOCATION:Whittingham Discovery Center\, 17 W Park Place\, Stamford\, CT\, 06902\, United States
CATEGORIES:Kids & Families,Whittingham Discovery Center
END:VEVENT
BEGIN:VEVENT
DTSTART;TZID=America/New_York:20240918T160000
DTEND;TZID=America/New_York:20240918T200000
DTSTAMP:20260421T230724
CREATED:20220815T205259Z
LAST-MODIFIED:20240715T163845Z
UID:10004618-1726675200-1726689600@millriverpark.org
SUMMARY:Whittingham Discovery Center
DESCRIPTION:Whittingham Discovery Center\, our newest addition to the park\, is NOW OPEN! This state-of-the-art visitor and environmental center has FREE educational exhibits and activities for all ages. Visit today!
URL:https://millriverpark.org/event/whittingham-discovery-center-3/2024-09-18/
LOCATION:Whittingham Discovery Center\, 17 W Park Place\, Stamford\, CT\, 06902\, United States
CATEGORIES:Kids & Families,Whittingham Discovery Center
END:VEVENT
BEGIN:VEVENT
DTSTART;TZID=America/New_York:20240919T160000
DTEND;TZID=America/New_York:20240919T200000
DTSTAMP:20260421T230724
CREATED:20220815T205259Z
LAST-MODIFIED:20240715T163845Z
UID:10004619-1726761600-1726776000@millriverpark.org
SUMMARY:Whittingham Discovery Center
DESCRIPTION:Whittingham Discovery Center\, our newest addition to the park\, is NOW OPEN! This state-of-the-art visitor and environmental center has FREE educational exhibits and activities for all ages. Visit today!
URL:https://millriverpark.org/event/whittingham-discovery-center-3/2024-09-19/
LOCATION:Whittingham Discovery Center\, 17 W Park Place\, Stamford\, CT\, 06902\, United States
CATEGORIES:Kids & Families,Whittingham Discovery Center
END:VEVENT
BEGIN:VEVENT
DTSTART;TZID=America/New_York:20240921T100000
DTEND;TZID=America/New_York:20240921T120000
DTSTAMP:20260421T230724
CREATED:20240912T173030Z
LAST-MODIFIED:20240912T173030Z
UID:10004836-1726912800-1726920000@millriverpark.org
SUMMARY:Art in the Park - Drawing
DESCRIPTION:Get crafty with Art in the Park! Presented by the Stamford Art Association\, release your creative energy at the Whittingham Discovery Center from 10 AM – 12 PM with complimentary workshops guided by experienced art instructors. Let your young artists unleash their creativity by drawing whatever comes to their mind!
URL:https://millriverpark.org/event/art-in-the-park-drawing/
LOCATION:Whittingham Discovery Center\, 17 W Park Place\, Stamford\, CT\, 06902\, United States
CATEGORIES:Kids & Families,Whittingham Discovery Center
END:VEVENT
BEGIN:VEVENT
DTSTART;TZID=America/New_York:20240923T160000
DTEND;TZID=America/New_York:20240923T200000
DTSTAMP:20260421T230724
CREATED:20220815T205259Z
LAST-MODIFIED:20240715T163845Z
UID:10004620-1727107200-1727121600@millriverpark.org
SUMMARY:Whittingham Discovery Center
DESCRIPTION:Whittingham Discovery Center\, our newest addition to the park\, is NOW OPEN! This state-of-the-art visitor and environmental center has FREE educational exhibits and activities for all ages. Visit today!
URL:https://millriverpark.org/event/whittingham-discovery-center-3/2024-09-23/
LOCATION:Whittingham Discovery Center\, 17 W Park Place\, Stamford\, CT\, 06902\, United States
CATEGORIES:Kids & Families,Whittingham Discovery Center
END:VEVENT
BEGIN:VEVENT
DTSTART;TZID=America/New_York:20240924T160000
DTEND;TZID=America/New_York:20240924T200000
DTSTAMP:20260421T230724
CREATED:20220815T205259Z
LAST-MODIFIED:20240715T163845Z
UID:10004621-1727193600-1727208000@millriverpark.org
SUMMARY:Whittingham Discovery Center
DESCRIPTION:Whittingham Discovery Center\, our newest addition to the park\, is NOW OPEN! This state-of-the-art visitor and environmental center has FREE educational exhibits and activities for all ages. Visit today!
URL:https://millriverpark.org/event/whittingham-discovery-center-3/2024-09-24/
LOCATION:Whittingham Discovery Center\, 17 W Park Place\, Stamford\, CT\, 06902\, United States
CATEGORIES:Kids & Families,Whittingham Discovery Center
END:VEVENT
BEGIN:VEVENT
DTSTART;TZID=America/New_York:20240925T160000
DTEND;TZID=America/New_York:20240925T200000
DTSTAMP:20260421T230724
CREATED:20220815T205259Z
LAST-MODIFIED:20240715T163845Z
UID:10004622-1727280000-1727294400@millriverpark.org
SUMMARY:Whittingham Discovery Center
DESCRIPTION:Whittingham Discovery Center\, our newest addition to the park\, is NOW OPEN! This state-of-the-art visitor and environmental center has FREE educational exhibits and activities for all ages. Visit today!
URL:https://millriverpark.org/event/whittingham-discovery-center-3/2024-09-25/
LOCATION:Whittingham Discovery Center\, 17 W Park Place\, Stamford\, CT\, 06902\, United States
CATEGORIES:Kids & Families,Whittingham Discovery Center
END:VEVENT
BEGIN:VEVENT
DTSTART;TZID=America/New_York:20240926T160000
DTEND;TZID=America/New_York:20240926T200000
DTSTAMP:20260421T230724
CREATED:20220815T205259Z
LAST-MODIFIED:20240715T163845Z
UID:10004623-1727366400-1727380800@millriverpark.org
SUMMARY:Whittingham Discovery Center
DESCRIPTION:Whittingham Discovery Center\, our newest addition to the park\, is NOW OPEN! This state-of-the-art visitor and environmental center has FREE educational exhibits and activities for all ages. Visit today!
URL:https://millriverpark.org/event/whittingham-discovery-center-3/2024-09-26/
LOCATION:Whittingham Discovery Center\, 17 W Park Place\, Stamford\, CT\, 06902\, United States
CATEGORIES:Kids & Families,Whittingham Discovery Center
END:VEVENT
BEGIN:VEVENT
DTSTART;TZID=America/New_York:20240929T100000
DTEND;TZID=America/New_York:20240929T110000
DTSTAMP:20260421T230724
CREATED:20240819T171123Z
LAST-MODIFIED:20240819T171123Z
UID:10005665-1727604000-1727607600@millriverpark.org
SUMMARY:"Jasmine Launches a Startup" by Bachar Karroum
DESCRIPTION:Come with your family this Spring for Sunday Funday! The kiddos will read books promptly at 10 AM every Sunday at the Whittingham Discovery Center. The read-along will be accompanied by FREE snacks and an activity. \nInspire future entrepreneurs – introduce your kid to the world of entrepreneurship with his or her first business book! \nThis book instills lessons about hard work\, creativity and determination\, coaching your young\, upcoming CEO to acquire the right mindset needed to turn a dream or vision into reality. \n  \nPLUS the first 25 participants will get a free copy of the book read that day!
URL:https://millriverpark.org/event/jasmine-launches-a-startup-by-bachar-karroum/
LOCATION:30 West Broad Street\, Stamford\, CT\, 06902\, United States
CATEGORIES:Kids & Families,Whittingham Discovery Center
END:VEVENT
BEGIN:VEVENT
DTSTART;TZID=America/New_York:20240930T160000
DTEND;TZID=America/New_York:20240930T200000
DTSTAMP:20260421T230724
CREATED:20220815T205259Z
LAST-MODIFIED:20240715T163845Z
UID:10004624-1727712000-1727726400@millriverpark.org
SUMMARY:Whittingham Discovery Center
DESCRIPTION:Whittingham Discovery Center\, our newest addition to the park\, is NOW OPEN! This state-of-the-art visitor and environmental center has FREE educational exhibits and activities for all ages. Visit today!
URL:https://millriverpark.org/event/whittingham-discovery-center-3/2024-09-30/
LOCATION:Whittingham Discovery Center\, 17 W Park Place\, Stamford\, CT\, 06902\, United States
CATEGORIES:Kids & Families,Whittingham Discovery Center
END:VEVENT
END:VCALENDAR