BEGIN:VCALENDAR
VERSION:2.0
PRODID:-//Mill River Park Collaborative - ECPv6.15.12.2//NONSGML v1.0//EN
CALSCALE:GREGORIAN
METHOD:PUBLISH
X-ORIGINAL-URL:https://millriverpark.org
X-WR-CALDESC:Events for Mill River Park Collaborative
REFRESH-INTERVAL;VALUE=DURATION:PT1H
X-Robots-Tag:noindex
X-PUBLISHED-TTL:PT1H
BEGIN:VTIMEZONE
TZID:America/New_York
BEGIN:DAYLIGHT
TZOFFSETFROM:-0500
TZOFFSETTO:-0400
TZNAME:EDT
DTSTART:20250309T070000
END:DAYLIGHT
BEGIN:STANDARD
TZOFFSETFROM:-0400
TZOFFSETTO:-0500
TZNAME:EST
DTSTART:20251102T060000
END:STANDARD
BEGIN:DAYLIGHT
TZOFFSETFROM:-0500
TZOFFSETTO:-0400
TZNAME:EDT
DTSTART:20260308T070000
END:DAYLIGHT
BEGIN:STANDARD
TZOFFSETFROM:-0400
TZOFFSETTO:-0500
TZNAME:EST
DTSTART:20261101T060000
END:STANDARD
BEGIN:DAYLIGHT
TZOFFSETFROM:-0500
TZOFFSETTO:-0400
TZNAME:EDT
DTSTART:20270314T070000
END:DAYLIGHT
BEGIN:STANDARD
TZOFFSETFROM:-0400
TZOFFSETTO:-0500
TZNAME:EST
DTSTART:20271107T060000
END:STANDARD
END:VTIMEZONE
BEGIN:VEVENT
DTSTART;TZID=America/New_York:20260103T090000
DTEND;TZID=America/New_York:20260103T170000
DTSTAMP:20260422T113829
CREATED:20200903T184638Z
LAST-MODIFIED:20250414T172722Z
UID:10003554-1767430800-1767459600@millriverpark.org
SUMMARY:The Nissen Carousel at Mill River Park
DESCRIPTION:The Brownstein | Selkowitz Carousel will be open from 9 – 5pm.  Carousel rides are $2 or a multi ride 6 rides for $10 pass is available.  The Rich Pantry will be open for refreshments. \n 
URL:https://millriverpark.org/event/david-marion-nissen-carousel/2026-01-03/
LOCATION:Nissen Carousel\, 30 West Broad Street\, Stamford\, CT\, 06902\, United States
CATEGORIES:Kids & Families,Weekends at the Carousel
ATTACH;FMTTYPE=image/jpeg:https://millriverpark.org/wp-content/uploads/2019/03/carousel-pavilion-e1654800094266.jpg
END:VEVENT
BEGIN:VEVENT
DTSTART;TZID=America/New_York:20260104T090000
DTEND;TZID=America/New_York:20260104T170000
DTSTAMP:20260422T113829
CREATED:20200903T184638Z
LAST-MODIFIED:20250414T172722Z
UID:10003555-1767517200-1767546000@millriverpark.org
SUMMARY:The Nissen Carousel at Mill River Park
DESCRIPTION:The Brownstein | Selkowitz Carousel will be open from 9 – 5pm.  Carousel rides are $2 or a multi ride 6 rides for $10 pass is available.  The Rich Pantry will be open for refreshments. \n 
URL:https://millriverpark.org/event/david-marion-nissen-carousel/2026-01-04/
LOCATION:Nissen Carousel\, 30 West Broad Street\, Stamford\, CT\, 06902\, United States
CATEGORIES:Kids & Families,Weekends at the Carousel
ATTACH;FMTTYPE=image/jpeg:https://millriverpark.org/wp-content/uploads/2019/03/carousel-pavilion-e1654800094266.jpg
END:VEVENT
BEGIN:VEVENT
DTSTART;TZID=America/New_York:20260110T090000
DTEND;TZID=America/New_York:20260110T170000
DTSTAMP:20260422T113829
CREATED:20200903T184638Z
LAST-MODIFIED:20250414T172722Z
UID:10003556-1768035600-1768064400@millriverpark.org
SUMMARY:The Nissen Carousel at Mill River Park
DESCRIPTION:The Brownstein | Selkowitz Carousel will be open from 9 – 5pm.  Carousel rides are $2 or a multi ride 6 rides for $10 pass is available.  The Rich Pantry will be open for refreshments. \n 
URL:https://millriverpark.org/event/david-marion-nissen-carousel/2026-01-10/
LOCATION:Nissen Carousel\, 30 West Broad Street\, Stamford\, CT\, 06902\, United States
CATEGORIES:Kids & Families,Weekends at the Carousel
ATTACH;FMTTYPE=image/jpeg:https://millriverpark.org/wp-content/uploads/2019/03/carousel-pavilion-e1654800094266.jpg
END:VEVENT
BEGIN:VEVENT
DTSTART;TZID=America/New_York:20260111T090000
DTEND;TZID=America/New_York:20260111T170000
DTSTAMP:20260422T113829
CREATED:20200903T184638Z
LAST-MODIFIED:20250414T172722Z
UID:10003557-1768122000-1768150800@millriverpark.org
SUMMARY:The Nissen Carousel at Mill River Park
DESCRIPTION:The Brownstein | Selkowitz Carousel will be open from 9 – 5pm.  Carousel rides are $2 or a multi ride 6 rides for $10 pass is available.  The Rich Pantry will be open for refreshments. \n 
URL:https://millriverpark.org/event/david-marion-nissen-carousel/2026-01-11/
LOCATION:Nissen Carousel\, 30 West Broad Street\, Stamford\, CT\, 06902\, United States
CATEGORIES:Kids & Families,Weekends at the Carousel
ATTACH;FMTTYPE=image/jpeg:https://millriverpark.org/wp-content/uploads/2019/03/carousel-pavilion-e1654800094266.jpg
END:VEVENT
BEGIN:VEVENT
DTSTART;TZID=America/New_York:20260117T090000
DTEND;TZID=America/New_York:20260117T170000
DTSTAMP:20260422T113829
CREATED:20200903T184638Z
LAST-MODIFIED:20250414T172722Z
UID:10003558-1768640400-1768669200@millriverpark.org
SUMMARY:The Nissen Carousel at Mill River Park
DESCRIPTION:The Brownstein | Selkowitz Carousel will be open from 9 – 5pm.  Carousel rides are $2 or a multi ride 6 rides for $10 pass is available.  The Rich Pantry will be open for refreshments. \n 
URL:https://millriverpark.org/event/david-marion-nissen-carousel/2026-01-17/
LOCATION:Nissen Carousel\, 30 West Broad Street\, Stamford\, CT\, 06902\, United States
CATEGORIES:Kids & Families,Weekends at the Carousel
ATTACH;FMTTYPE=image/jpeg:https://millriverpark.org/wp-content/uploads/2019/03/carousel-pavilion-e1654800094266.jpg
END:VEVENT
BEGIN:VEVENT
DTSTART;TZID=America/New_York:20260118T090000
DTEND;TZID=America/New_York:20260118T170000
DTSTAMP:20260422T113829
CREATED:20200903T184638Z
LAST-MODIFIED:20250414T172722Z
UID:10003559-1768726800-1768755600@millriverpark.org
SUMMARY:The Nissen Carousel at Mill River Park
DESCRIPTION:The Brownstein | Selkowitz Carousel will be open from 9 – 5pm.  Carousel rides are $2 or a multi ride 6 rides for $10 pass is available.  The Rich Pantry will be open for refreshments. \n 
URL:https://millriverpark.org/event/david-marion-nissen-carousel/2026-01-18/
LOCATION:Nissen Carousel\, 30 West Broad Street\, Stamford\, CT\, 06902\, United States
CATEGORIES:Kids & Families,Weekends at the Carousel
ATTACH;FMTTYPE=image/jpeg:https://millriverpark.org/wp-content/uploads/2019/03/carousel-pavilion-e1654800094266.jpg
END:VEVENT
BEGIN:VEVENT
DTSTART;TZID=America/New_York:20260124T090000
DTEND;TZID=America/New_York:20260124T170000
DTSTAMP:20260422T113829
CREATED:20200903T184638Z
LAST-MODIFIED:20250414T172722Z
UID:10003560-1769245200-1769274000@millriverpark.org
SUMMARY:The Nissen Carousel at Mill River Park
DESCRIPTION:The Brownstein | Selkowitz Carousel will be open from 9 – 5pm.  Carousel rides are $2 or a multi ride 6 rides for $10 pass is available.  The Rich Pantry will be open for refreshments. \n 
URL:https://millriverpark.org/event/david-marion-nissen-carousel/2026-01-24/
LOCATION:Nissen Carousel\, 30 West Broad Street\, Stamford\, CT\, 06902\, United States
CATEGORIES:Kids & Families,Weekends at the Carousel
ATTACH;FMTTYPE=image/jpeg:https://millriverpark.org/wp-content/uploads/2019/03/carousel-pavilion-e1654800094266.jpg
END:VEVENT
BEGIN:VEVENT
DTSTART;TZID=America/New_York:20260125T090000
DTEND;TZID=America/New_York:20260125T170000
DTSTAMP:20260422T113829
CREATED:20200903T184638Z
LAST-MODIFIED:20250414T172722Z
UID:10003561-1769331600-1769360400@millriverpark.org
SUMMARY:The Nissen Carousel at Mill River Park
DESCRIPTION:The Brownstein | Selkowitz Carousel will be open from 9 – 5pm.  Carousel rides are $2 or a multi ride 6 rides for $10 pass is available.  The Rich Pantry will be open for refreshments. \n 
URL:https://millriverpark.org/event/david-marion-nissen-carousel/2026-01-25/
LOCATION:Nissen Carousel\, 30 West Broad Street\, Stamford\, CT\, 06902\, United States
CATEGORIES:Kids & Families,Weekends at the Carousel
ATTACH;FMTTYPE=image/jpeg:https://millriverpark.org/wp-content/uploads/2019/03/carousel-pavilion-e1654800094266.jpg
END:VEVENT
BEGIN:VEVENT
DTSTART;TZID=America/New_York:20260131T090000
DTEND;TZID=America/New_York:20260131T170000
DTSTAMP:20260422T113829
CREATED:20200903T184638Z
LAST-MODIFIED:20250414T172722Z
UID:10003562-1769850000-1769878800@millriverpark.org
SUMMARY:The Nissen Carousel at Mill River Park
DESCRIPTION:The Brownstein | Selkowitz Carousel will be open from 9 – 5pm.  Carousel rides are $2 or a multi ride 6 rides for $10 pass is available.  The Rich Pantry will be open for refreshments. \n 
URL:https://millriverpark.org/event/david-marion-nissen-carousel/2026-01-31/
LOCATION:Nissen Carousel\, 30 West Broad Street\, Stamford\, CT\, 06902\, United States
CATEGORIES:Kids & Families,Weekends at the Carousel
ATTACH;FMTTYPE=image/jpeg:https://millriverpark.org/wp-content/uploads/2019/03/carousel-pavilion-e1654800094266.jpg
END:VEVENT
END:VCALENDAR